BEGIN:VCALENDAR
VERSION:2.0
PRODID:-//Heimat Kickers - ECPv6.15.20//NONSGML v1.0//EN
CALSCALE:GREGORIAN
METHOD:PUBLISH
X-WR-CALNAME:Heimat Kickers
X-ORIGINAL-URL:https://heimat-kickers.de
X-WR-CALDESC:Veranstaltungen für Heimat Kickers
REFRESH-INTERVAL;VALUE=DURATION:PT1H
X-Robots-Tag:noindex
X-PUBLISHED-TTL:PT1H
BEGIN:VTIMEZONE
TZID:Europe/Berlin
BEGIN:DAYLIGHT
TZOFFSETFROM:+0100
TZOFFSETTO:+0200
TZNAME:CEST
DTSTART:20180325T010000
END:DAYLIGHT
BEGIN:STANDARD
TZOFFSETFROM:+0200
TZOFFSETTO:+0100
TZNAME:CET
DTSTART:20181028T010000
END:STANDARD
BEGIN:DAYLIGHT
TZOFFSETFROM:+0100
TZOFFSETTO:+0200
TZNAME:CEST
DTSTART:20190331T010000
END:DAYLIGHT
BEGIN:STANDARD
TZOFFSETFROM:+0200
TZOFFSETTO:+0100
TZNAME:CET
DTSTART:20191027T010000
END:STANDARD
BEGIN:DAYLIGHT
TZOFFSETFROM:+0100
TZOFFSETTO:+0200
TZNAME:CEST
DTSTART:20200329T010000
END:DAYLIGHT
BEGIN:STANDARD
TZOFFSETFROM:+0200
TZOFFSETTO:+0100
TZNAME:CET
DTSTART:20201025T010000
END:STANDARD
BEGIN:DAYLIGHT
TZOFFSETFROM:+0100
TZOFFSETTO:+0200
TZNAME:CEST
DTSTART:20210328T010000
END:DAYLIGHT
BEGIN:STANDARD
TZOFFSETFROM:+0200
TZOFFSETTO:+0100
TZNAME:CET
DTSTART:20211031T010000
END:STANDARD
BEGIN:DAYLIGHT
TZOFFSETFROM:+0100
TZOFFSETTO:+0200
TZNAME:CEST
DTSTART:20220327T010000
END:DAYLIGHT
BEGIN:STANDARD
TZOFFSETFROM:+0200
TZOFFSETTO:+0100
TZNAME:CET
DTSTART:20221030T010000
END:STANDARD
BEGIN:DAYLIGHT
TZOFFSETFROM:+0100
TZOFFSETTO:+0200
TZNAME:CEST
DTSTART:20230326T010000
END:DAYLIGHT
BEGIN:STANDARD
TZOFFSETFROM:+0200
TZOFFSETTO:+0100
TZNAME:CET
DTSTART:20231029T010000
END:STANDARD
END:VTIMEZONE
BEGIN:VEVENT
DTSTART;VALUE=DATE:20221127
DTEND;VALUE=DATE:20221219
DTSTAMP:20260421T103544
CREATED:20221116T150030Z
LAST-MODIFIED:20221115T163405Z
UID:2011-1669507200-1671407999@heimat-kickers.de
SUMMARY:Ausstellung im DemoZ Ludwigsburg
DESCRIPTION:
URL:https://heimat-kickers.de/veranstaltungen/ausstellung-im-demoz-ludwigsburg/
LOCATION:Demokratisches Zentrum Ludwigsburg\, Wilhelmstraße 45/1\, Ludwigsburg\, 71638\, Deutschland
CATEGORIES:Ausstellung
ATTACH;FMTTYPE=image/jpeg:https://heimat-kickers.de/wp-content/uploads/2022/11/IMG_3400.jpg
ORGANIZER;CN="Kickers Fanprojekt":MAILTO:info@kickers-fanprojekt.de
END:VEVENT
BEGIN:VEVENT
DTSTART;VALUE=DATE:20221104
DTEND;VALUE=DATE:20221126
DTSTAMP:20260421T103544
CREATED:20221115T154128Z
LAST-MODIFIED:20221115T170458Z
UID:2006-1667520000-1669420799@heimat-kickers.de
SUMMARY:Ausstellung im Rathaus Stuttgart
DESCRIPTION:
URL:https://heimat-kickers.de/veranstaltungen/ausstellung-im-rathaus-stuttgart/
LOCATION:Rathaus Stuttgart\, Marktplatz 1\, Stuttgart\, 70173\, Deutschland
CATEGORIES:Ausstellung
ATTACH;FMTTYPE=image/jpeg:https://heimat-kickers.de/wp-content/uploads/2022/11/IMG_3165-scaled.jpg
ORGANIZER;CN="Kickers Fanprojekt":MAILTO:info@kickers-fanprojekt.de
END:VEVENT
BEGIN:VEVENT
DTSTART;VALUE=DATE:20220622
DTEND;VALUE=DATE:20220915
DTSTAMP:20260421T103544
CREATED:20221115T153621Z
LAST-MODIFIED:20221115T155126Z
UID:2001-1655856000-1663199999@heimat-kickers.de
SUMMARY:Austellung VHS Leinfelden-Echterdingen
DESCRIPTION:
URL:https://heimat-kickers.de/veranstaltungen/austellung-vhs-leinfelden-echterdingen/
LOCATION:VHS Leinfelden-Echerdingen\, Neuer Markt 3\, Leinfelden-Echterdingen\, 70711\, Deutschland
CATEGORIES:Ausstellung
ATTACH;FMTTYPE=image/jpeg:https://heimat-kickers.de/wp-content/uploads/2022/11/Plakat-Heimat-Kickers-scaled.jpg
ORGANIZER;CN="Kickers Fanprojekt":MAILTO:info@kickers-fanprojekt.de
END:VEVENT
BEGIN:VEVENT
DTSTART;TZID=Europe/Berlin:20220407T200000
DTEND;TZID=Europe/Berlin:20220407T220000
DTSTAMP:20260421T103544
CREATED:20220331T152004Z
LAST-MODIFIED:20220331T152004Z
UID:1955-1649361600-1649368800@heimat-kickers.de
SUMMARY:Ausstellungseröffnung "Heimat Kickers" im Theaterhaus Stuttgart
DESCRIPTION:
URL:https://heimat-kickers.de/veranstaltungen/ausstellungseroeffnung-heimat-kickers-im-theaterhaus-stuttgart/
LOCATION:Theaterhaus Stuttgart\, Siemensstraße 11\, Stuttgart\, 70469\, Deutschland
CATEGORIES:Ausstellung
ATTACH;FMTTYPE=image/png:https://heimat-kickers.de/wp-content/uploads/2022/04/Vernissage-Theaterhaus-1.png
ORGANIZER;CN="Kickers Fanprojekt":MAILTO:info@kickers-fanprojekt.de
END:VEVENT
BEGIN:VEVENT
DTSTART;TZID=Europe/Berlin:20200726T110000
DTEND;TZID=Europe/Berlin:20200726T170000
DTSTAMP:20260421T103544
CREATED:20200709T163600Z
LAST-MODIFIED:20200714T115653Z
UID:1257-1595761200-1595782800@heimat-kickers.de
SUMMARY:Eröffnung Ausstellung bei der Geschichtswerkstatt Degerloch
DESCRIPTION:
URL:https://heimat-kickers.de/veranstaltungen/eroeffnung-ausstellung-bei-der-geschichtswerkstatt-degerloch/
LOCATION:Geschichtswerkstatt Degerloch e.V.\, Große Falterstr. 4\, Stuttgart\, 70597\, Deutschland
CATEGORIES:Ausstellung,Vernissage
ATTACH;FMTTYPE=image/jpeg:https://heimat-kickers.de/wp-content/uploads/2020/07/Kickers_GWD_Plakat3_Franklin-scaled.jpg
ORGANIZER;CN="Geschichtswerkstatt Degerloch e.V.":MAILTO:info@geschichtswerkstatt-degerloch.de
END:VEVENT
BEGIN:VEVENT
DTSTART;VALUE=DATE:20200726
DTEND;VALUE=DATE:20201005
DTSTAMP:20260421T103544
CREATED:20200709T163121Z
LAST-MODIFIED:20200714T115722Z
UID:1251-1595721600-1601855999@heimat-kickers.de
SUMMARY:Ausstellung bei der Geschichtswerkstatt Degerloch
DESCRIPTION:
URL:https://heimat-kickers.de/veranstaltungen/ausstellung-bei-der-geschichtswerkstatt-degerloch/
LOCATION:Geschichtswerkstatt Degerloch e.V.\, Große Falterstr. 4\, Stuttgart\, 70597\, Deutschland
CATEGORIES:Ausstellung
ATTACH;FMTTYPE=image/jpeg:https://heimat-kickers.de/wp-content/uploads/2020/07/Kickers_GWD_Plakat3_Franklin-scaled.jpg
ORGANIZER;CN="Geschichtswerkstatt Degerloch e.V.":MAILTO:info@geschichtswerkstatt-degerloch.de
END:VEVENT
BEGIN:VEVENT
DTSTART;TZID=Europe/Berlin:20200307T193000
DTEND;TZID=Europe/Berlin:20200307T230000
DTSTAMP:20260421T103544
CREATED:20191126T181625Z
LAST-MODIFIED:20191213T120823Z
UID:1018-1583609400-1583622000@heimat-kickers.de
SUMMARY:Joe Bauers Flaneursalon
DESCRIPTION:Die Stuttgarter Lieder- und Geschichtenshow\nmit Eva Leticia Padilla\, dem Trio Gadjo\, Bernd Sautter und Dietrich Krauß \nEine Begleitveranstaltung zur Ausstellung „Heimat KICKERS – Die Blauen in bewegten Zeiten“ \nJoe Bauer\, Kolumnist und Spaziergänger der Stuttgarter Nachrichten\, lässt Geschichten auf der Bühne lebendig werden: Zusammen mit Musikern und Entertainern spiegelt er die Stadt und ihre Menschen in einer bunten Show wider. Joe Bauers Flaneursalon tourt durch Clubs und Theater\, bespielt auch mal den Neckarhafen oder eine Kirche. Die Stuttgarter Lieder- und Geschichtenshow bietet kontrast- und temporeiche Abwechslung mit den Elementen Lesung\, Musik\, Humor. Immer spielt dabei auch die Umgebung des Auftrittsorts eine Rolle. Ins Stadtarchiv nach Cannstatt kommt der Flaneursalon mit der Sängerin Eva Leticia Padilla\, dem Trio Gadjo (Katalin Horvath\, Frank Wekenmann & Sebastian Mare) und dem Autor und Schriftsteller Bernd Sautter (http://heimspiele-buch.de/). Dietrich Kraus (Autor der „Anstalt“ im ZDF) führt als Conférencier durch den Abend. \n„Stuttgarts triftigste\, präziseste und schlichtweg schönste Kleinkunstinstitution …“ (Stuttgarter Zeitung) \n„Wenn man die Internationalität der Stadt spüren will\, geht man in seinen Flaneursalon\, eine Art Revue aus Komik\, Literatur und Rock ’n‘ Roll\, bei der er regelmäßig andere Künstler um sich versammelt.“\n(Die Tageszeitung\, Berlin) \nTickets zu 15\,- Euro unter
URL:https://heimat-kickers.de/veranstaltungen/joe-bauers-flaneursalon/
LOCATION:Stadtarchiv Stuttgart\, Bellingweg 21\, Stuttgart\, 70372\, Deutschland
CATEGORIES:Show
ATTACH;FMTTYPE=image/jpeg:https://heimat-kickers.de/wp-content/uploads/2019/11/Logo_Flaneursalon.jpg
ORGANIZER;CN="Stadtarchiv Stuttgart":MAILTO:poststelle.stadtarchiv@stuttgart.de
END:VEVENT
BEGIN:VEVENT
DTSTART;VALUE=DATE:20200219
DTEND;VALUE=DATE:20200501
DTSTAMP:20260421T103544
CREATED:20191025T123222Z
LAST-MODIFIED:20220909T101117Z
UID:770-1582070400-1588291199@heimat-kickers.de
SUMMARY:Ausstellung im Stadtarchiv Stuttgart
DESCRIPTION:Heimat KICKERS – Die Blauen in bewegten Zeiten\nEine historische Recherche des Fanprojekts Stuttgart e.V. (Kickers Fanprojekt) \nÖffnungszeiten analog zu den Öffnungszeiten des Lesesaals\nMo 9-13 Uhr\, Di/Do/Fr 9-16 Uhr\, Mi 9-18 Uhr\nEintritt frei \nDie Ausstellung „Heimat KICKERS“ wurde von engagierten Kickers-Fans erarbeitet und stellt die Geschichte der Stuttgarter Kickers von den Anfängen der Vereinsgründung 1899 bis 1949\, dem Gründungsjahr der Bundesrepublik\, vor. Am Beispiel von einzelnen Spielern\, Funktionären und Mitgliedern\, die in dieser Zeit für die Kickers aktiv waren\, wird gezeigt\, wie sich politische Umbrüche auf das Schicksal der Menschen im Verein auswirkten. Im Mittelpunkt stehen Sportler wie der Kickers-Pionier Eugen Kipp\, der im Ersten Weltkrieg umgekommen ist\, oder Julius Baumann\, ein Schiedsrichter der Kickers\, der aufgrund seiner jüdischen Herkunft im Juni 1933 aus dem Verein ausgeschlossen und 1942 im KZ Mauthausen ermordet wurde.
URL:https://heimat-kickers.de/veranstaltungen/ausstellung-im-stadtarchiv-stuttgart/
LOCATION:Stadtarchiv Stuttgart\, Bellingweg 21\, Stuttgart\, 70372\, Deutschland
CATEGORIES:Ausstellung
ATTACH;FMTTYPE=image/jpeg:https://heimat-kickers.de/wp-content/uploads/2019/10/Plakat-Heimat-Kickers-scaled.jpg
ORGANIZER;CN="Stadtarchiv Stuttgart":MAILTO:poststelle.stadtarchiv@stuttgart.de
END:VEVENT
BEGIN:VEVENT
DTSTART;TZID=Europe/Berlin:20200218T190000
DTEND;TZID=Europe/Berlin:20200218T220000
DTSTAMP:20260421T103544
CREATED:20191126T181029Z
LAST-MODIFIED:20191204T122542Z
UID:1016-1582052400-1582063200@heimat-kickers.de
SUMMARY:Vernissage: Singende Beine
DESCRIPTION:Zur Eröffnung der Ausstellung „Heimat Kickers – Die Blauen in bewegten Zeiten“ im Stadtarchiv Stuttgart wird Pascal Claude (Zürich) in die Welt der singenden Fußballspieler einführen. Sein Programm trägt den Titel „Singende Beine“ und vereint neben zeitlosen Klassikern wie Gerd Müllers „Und dann macht es Bumm“ auch Songs von Roger Milla\, Ruud Gullit oder Paul Gascoigne. Und natürlich wird er auch den 1974 von der 1. Mannschaft der Stuttgarter Kickers mit dem Orchester Erwin Lehn eingesungenen „Kickers Song“ spielen. \nPascal Claude ist Hausmann\, Heilpädagoge und Autor zu Fußballthemen. Er sammelt seit über zwanzig Jahren 45er Vinylsingles mit Fußballbezug\, die er unter www.45football.com der Öffentlichkeit zugänglich macht. Gerade ist im Verlag der Buchhandlung Walther König sein Buch „Football Disco!.. The Unbelievable World of Football Record Covers“ erschienen.
URL:https://heimat-kickers.de/veranstaltungen/vernissage-singende-beine/
LOCATION:Stadtarchiv Stuttgart\, Bellingweg 21\, Stuttgart\, 70372\, Deutschland
CATEGORIES:Ausstellung,Vernissage
ATTACH;FMTTYPE=image/jpeg:https://heimat-kickers.de/wp-content/uploads/2019/11/e5736acc-9ea2-4359-a278-0afd21274d59.jpeg
ORGANIZER;CN="Kickers Fanprojekt":MAILTO:info@kickers-fanprojekt.de
END:VEVENT
BEGIN:VEVENT
DTSTART;VALUE=DATE:20200125
DTEND;VALUE=DATE:20200214
DTSTAMP:20260421T103544
CREATED:20191025T122912Z
LAST-MODIFIED:20200122T150445Z
UID:766-1579910400-1581638399@heimat-kickers.de
SUMMARY:Ausstellung in Rosis Pinte
DESCRIPTION:Vernissage am 25. Januar ab 20 Uhr \nStuttgarter Kickers-Fans präsentieren Ausstellung in Rosis Pinte  \nDie Stuttgarter Kickers überwintern derzeit in der Oberliga Baden-Württemberg auf dem ersten Tabellenplatz\, die Fans der „Blauen“ sind ohnehin erstklassig: Jüngst haben engagierte Kickers-Fans die Geschichte des Vereins aufgearbeitet. Die Jahrzehnte nach der Vereinsgründung 1899 stehen dabei im Mittelpunkt\, zentral ist der wenig ruhmreiche Umgang des Vereins mit seinen jüdischen Mitgliedern im Nationalsozialismus. Ihre dabei entstandene Ausstellung „Heimat Kickers“ hat dabei überregional für Aufsehen gesorgt\, der DFB hat der vorbildlichen Dokumentation den Julius Hirsch-Preis verliehen. Am Samstag präsentiert das federführende Kickers-Fanprojekt seine Ausstellung in der Stuttgarter Gaststätte Rosis Pinte und feiert die Preisverleihung. Auf Stelltafeln werden für einige Wochen am Hölderlinplatz die innerhalb der Ausstellung aufgearbeiteten Biografien der einstigen Kickers-Protagonisten dargestellt. So ist etwa das Leben des Kickers-Pioniers Eugen Kipp dargestellt\, der im Ersten Weltkrieg umgekommen ist – oder das Schicksal des einstigen Kickers-Schiedsrichters Julius Baumann\, der aufgrund seiner jüdischen Herkunft schon im Juni 1933 aus dem Verein ausgeschlossen wurde und 1942 im KZ Mauthausen ermordet wurde.  \nAusstellung „Heimat Kickers“ in Rosis Pinte: Vernissage am 25. Januar ab 20 Uhr. Schwabstraße 193\, 70193 Stuttgart\, täglich ab 16 Uhr geöffnet\, Dienstag Ruhetag.
URL:https://heimat-kickers.de/veranstaltungen/ausstellung-in-rosis-pinte/
LOCATION:Rosis Pinte\, Schwabstraße 193\, Stuttgart\, Deutschland
CATEGORIES:Ausstellung
ATTACH;FMTTYPE=image/jpeg:https://heimat-kickers.de/wp-content/uploads/2019/10/Plakat-Heimat-Kickers-1-scaled.jpg
ORGANIZER;CN="Rosis Pinte":MAILTO:info@rosis-pinte.de
END:VEVENT
BEGIN:VEVENT
DTSTART;TZID=Europe/Berlin:20200119T140000
DTEND;TZID=Europe/Berlin:20200119T180000
DTSTAMP:20260421T103544
CREATED:20200107T132439Z
LAST-MODIFIED:20200115T154733Z
UID:1115-1579442400-1579456800@heimat-kickers.de
SUMMARY:Besichtigung KZ Gedenkstätte Leonberg
DESCRIPTION:Im Rahmen seines Projektes „Heimat Kickers“ unternimmt das Kickers Fanprojekt am Sonntag\, 19. Januar 2020\, eine Exkursion zur Gedenkstätte des KZ-Außenlagers Leonberg. Die Teilnahme an der ca. 2-stündigen Exkursion\, die um 14 Uhr beginnt\, ist kostenfrei und offen für alle Interessierten aus der Kickers-Familie\, lediglich die gemeinsame An- und Abreise mit öffentlichen Verkehrsmitteln sollte von den Teilnehmenden selbst übernommen werden. Anmeldung bitte per Mail bis zum 15.01.2020 an daniel.metz[at]kickers-fanprojekt.de oder direkt bei Daniel auf dem Handy. \nDie beiden langjährigen Kickers-Fans Dieter Rebstock und Holger Corsten werden uns zunächst durch die Gedenkstätte führen. In den beiden 300 m langen Röhren des ehemaligen Engelberg-Autobahntunnels wurden Häftlinge aus dem elsässischen Konzentrationslager Natzweiler-Struthof unter entsetzlichen Bedingungen zur Mitarbeit bei der Produktion von Tragflächen des Messerschmitt-Düsenjägers Me 262 gezwungen. Danach werden sie einen Vortrag präsentieren\, in dem der jüdische Beitrag zum Fußball in Süddeutschland beleuchtet wird\, selbstredend mit Bezug zu den Stuttgarter Kickers. \nDie Exkursion ist Teil der vielfältigen Aktionen zum „16. Erinnerungstag im deutschen Fußball“\, mit dem der Befreiung des Konzentrationslagers Auschwitz gedacht wird\, der sich am 27. Januar 2020 zum 75. Mal jährt. Getragen wird der Erinnerungstag durch die Initiative „!Nie wieder“\, einem Netzwerk aus Fangruppen\, Fanprojekten\, antirassistischen Bündnissen\, Amateur- und Profivereinen\, der DFL und des DFB\, sowie zahlreichen Institutionen aus der Zivilgesellschaft. Das Kickers Fanprojekt\, Julius Hirsch Preisträger 2019 des DFB\, ist Mitglied der Initiative „!Nie wieder“.
URL:https://heimat-kickers.de/veranstaltungen/besichtigung-kz-gedenkstaette-leonberg/
LOCATION:KZ-Gedenkstätteninitiative Leonberg e.V.\, Untere Burghalde 49\, Leonberg\, 71229\, Deutschland
CATEGORIES:Gedenkstättenfahrt
ORGANIZER;CN="Kickers Fanprojekt":MAILTO:info@kickers-fanprojekt.de
END:VEVENT
BEGIN:VEVENT
DTSTART;TZID=Europe/Berlin:20191118T120000
DTEND;TZID=Europe/Berlin:20191120T180000
DTSTAMP:20260421T103544
CREATED:20191017T112829Z
LAST-MODIFIED:20191017T112829Z
UID:610-1574078400-1574272800@heimat-kickers.de
SUMMARY:Verleihung Julius Hirsch Preis
DESCRIPTION:
URL:https://heimat-kickers.de/veranstaltungen/verleihung-julius-hirsch-preis/
LOCATION:Frankfurt am Main\, Frankfurt\, Deutschland
CATEGORIES:Verleihung
END:VEVENT
BEGIN:VEVENT
DTSTART;TZID=Europe/Berlin:20191108T093000
DTEND;TZID=Europe/Berlin:20191108T123000
DTSTAMP:20260421T103544
CREATED:20191030T142254Z
LAST-MODIFIED:20191030T142513Z
UID:823-1573205400-1573216200@heimat-kickers.de
SUMMARY:Fachtag "Wir haben doch nichts gewusst"
DESCRIPTION:Fachtag „Wir haben doch nichts gewusst – Fußball im Nationalsozialismus und die heutige gesellschaftliche Verantwortung im Sport“\nDer nationalsozialistische Völkermord kostete mehr als fünf Millionen Jüdinnen und Juden das Leben. Doch im Nachhinein wollten zahlreiche Deutsche nichts davon bemerkt haben. Wie kann es sein\, dass die Reichspogromnacht an ihnen vorbeiging? Dass sie nicht realisiert haben\, dass die Nachbarin\, der Verkäufer im Laden an der Ecke oder der Linksaußen des Lieblingsvereins plötzlich nicht mehr da ist? Und wie kann Erinnern und Gedenken dazu beitragen\, dass »Auschwitz nicht noch einmal sei« (Adorno)? \nDer FC St. Pauli setzt sich in einem fangeführten Museum kritisch mit der eigenen Geschichte im Nationalsozialismus auseinander und hat jüngst das Pädagogikprojekt »BAM! Bildung am Millerntor« gegründet. In Workshops für Schulklassen und Jugendgruppen werden Lebenswege jüdischer Spieler\, die Rolle des Vereins und seiner Mitglieder zur Zeit des Nationalsozialismus\, aktuelle rechte Entwicklungen im Fußball sowie gegenwärtige Diskriminierungen und Vorurteile diskutiert. Ziel ist dabei auch das Anregen zum Nachdenken über eigene Handlungen und daraus resultierende Konsequenzen für sich und die Gesellschaft.
URL:https://heimat-kickers.de/veranstaltungen/fachtag-wir-haben-doch-nichts-gewusst/
LOCATION:Hospitalhof\, Büchsenstraße 33\, Stuttgart\, 70174\, Deutschland
CATEGORIES:Fachtag
ORGANIZER;CN="Evang. Bildungszentrum Hospitalhof":MAILTO:info@hospitalhof.de
END:VEVENT
BEGIN:VEVENT
DTSTART;VALUE=DATE:20191108
DTEND;VALUE=DATE:20191214
DTSTAMP:20260421T103544
CREATED:20191025T122620Z
LAST-MODIFIED:20191126T183855Z
UID:761-1573171200-1576281599@heimat-kickers.de
SUMMARY:Ausstellung bei der Evangelischen Jugend
DESCRIPTION:
URL:https://heimat-kickers.de/veranstaltungen/ausstellung-bei-der-evangelischen-jugend/
LOCATION:Evangelische Jugend\, Fritz-Elsass-Straße 44\, Stuttgart\, Deutschland
CATEGORIES:Ausstellung
ATTACH;FMTTYPE=image/jpeg:https://heimat-kickers.de/wp-content/uploads/2019/09/Plakat-Heimat-Kickers-e1568900629330.jpg
END:VEVENT
BEGIN:VEVENT
DTSTART;VALUE=DATE:20191104
DTEND;VALUE=DATE:20191109
DTSTAMP:20260421T103544
CREATED:20191030T142931Z
LAST-MODIFIED:20191030T142931Z
UID:830-1572825600-1573257599@heimat-kickers.de
SUMMARY:Ausstellung beim Mädchengymnasium St. Agnes
DESCRIPTION:
URL:https://heimat-kickers.de/veranstaltungen/ausstellung-beim-maedchengymnasium-st-agnes/
LOCATION:Kath. Mädchengymnasium St. Agnes\, Gymnasiumstr. 45\, Stuttgart\, 70174\, Deutschland
CATEGORIES:Ausstellung
ORGANIZER;CN="Kath. M%C3%A4dchengymnasium St. Agnes":MAILTO:info@st-agnes-gymnasium.de
END:VEVENT
END:VCALENDAR