BEGIN:VCALENDAR
VERSION:2.0
PRODID:-//Heimat Kickers - ECPv6.15.20//NONSGML v1.0//EN
CALSCALE:GREGORIAN
METHOD:PUBLISH
X-ORIGINAL-URL:https://heimat-kickers.de
X-WR-CALDESC:Veranstaltungen für Heimat Kickers
REFRESH-INTERVAL;VALUE=DURATION:PT1H
X-Robots-Tag:noindex
X-PUBLISHED-TTL:PT1H
BEGIN:VTIMEZONE
TZID:Europe/Berlin
BEGIN:DAYLIGHT
TZOFFSETFROM:+0100
TZOFFSETTO:+0200
TZNAME:CEST
DTSTART:20180325T010000
END:DAYLIGHT
BEGIN:STANDARD
TZOFFSETFROM:+0200
TZOFFSETTO:+0100
TZNAME:CET
DTSTART:20181028T010000
END:STANDARD
BEGIN:DAYLIGHT
TZOFFSETFROM:+0100
TZOFFSETTO:+0200
TZNAME:CEST
DTSTART:20190331T010000
END:DAYLIGHT
BEGIN:STANDARD
TZOFFSETFROM:+0200
TZOFFSETTO:+0100
TZNAME:CET
DTSTART:20191027T010000
END:STANDARD
BEGIN:DAYLIGHT
TZOFFSETFROM:+0100
TZOFFSETTO:+0200
TZNAME:CEST
DTSTART:20200329T010000
END:DAYLIGHT
BEGIN:STANDARD
TZOFFSETFROM:+0200
TZOFFSETTO:+0100
TZNAME:CET
DTSTART:20201025T010000
END:STANDARD
END:VTIMEZONE
BEGIN:VEVENT
DTSTART;VALUE=DATE:20191104
DTEND;VALUE=DATE:20191109
DTSTAMP:20260422T124642
CREATED:20191030T142931Z
LAST-MODIFIED:20191030T142931Z
UID:830-1572825600-1573257599@heimat-kickers.de
SUMMARY:Ausstellung beim Mädchengymnasium St. Agnes
DESCRIPTION:
URL:https://heimat-kickers.de/veranstaltungen/ausstellung-beim-maedchengymnasium-st-agnes/
LOCATION:Kath. Mädchengymnasium St. Agnes\, Gymnasiumstr. 45\, Stuttgart\, 70174\, Deutschland
CATEGORIES:Ausstellung
ORGANIZER;CN="Kath. M%C3%A4dchengymnasium St. Agnes":MAILTO:info@st-agnes-gymnasium.de
END:VEVENT
BEGIN:VEVENT
DTSTART;VALUE=DATE:20191108
DTEND;VALUE=DATE:20191214
DTSTAMP:20260422T124642
CREATED:20191025T122620Z
LAST-MODIFIED:20191126T183855Z
UID:761-1573171200-1576281599@heimat-kickers.de
SUMMARY:Ausstellung bei der Evangelischen Jugend
DESCRIPTION:
URL:https://heimat-kickers.de/veranstaltungen/ausstellung-bei-der-evangelischen-jugend/
LOCATION:Evangelische Jugend\, Fritz-Elsass-Straße 44\, Stuttgart\, Deutschland
CATEGORIES:Ausstellung
ATTACH;FMTTYPE=image/jpeg:https://heimat-kickers.de/wp-content/uploads/2019/09/Plakat-Heimat-Kickers-e1568900629330.jpg
END:VEVENT
BEGIN:VEVENT
DTSTART;TZID=Europe/Berlin:20191108T093000
DTEND;TZID=Europe/Berlin:20191108T123000
DTSTAMP:20260422T124642
CREATED:20191030T142254Z
LAST-MODIFIED:20191030T142513Z
UID:823-1573205400-1573216200@heimat-kickers.de
SUMMARY:Fachtag "Wir haben doch nichts gewusst"
DESCRIPTION:Fachtag „Wir haben doch nichts gewusst – Fußball im Nationalsozialismus und die heutige gesellschaftliche Verantwortung im Sport“\nDer nationalsozialistische Völkermord kostete mehr als fünf Millionen Jüdinnen und Juden das Leben. Doch im Nachhinein wollten zahlreiche Deutsche nichts davon bemerkt haben. Wie kann es sein\, dass die Reichspogromnacht an ihnen vorbeiging? Dass sie nicht realisiert haben\, dass die Nachbarin\, der Verkäufer im Laden an der Ecke oder der Linksaußen des Lieblingsvereins plötzlich nicht mehr da ist? Und wie kann Erinnern und Gedenken dazu beitragen\, dass »Auschwitz nicht noch einmal sei« (Adorno)? \nDer FC St. Pauli setzt sich in einem fangeführten Museum kritisch mit der eigenen Geschichte im Nationalsozialismus auseinander und hat jüngst das Pädagogikprojekt »BAM! Bildung am Millerntor« gegründet. In Workshops für Schulklassen und Jugendgruppen werden Lebenswege jüdischer Spieler\, die Rolle des Vereins und seiner Mitglieder zur Zeit des Nationalsozialismus\, aktuelle rechte Entwicklungen im Fußball sowie gegenwärtige Diskriminierungen und Vorurteile diskutiert. Ziel ist dabei auch das Anregen zum Nachdenken über eigene Handlungen und daraus resultierende Konsequenzen für sich und die Gesellschaft.
URL:https://heimat-kickers.de/veranstaltungen/fachtag-wir-haben-doch-nichts-gewusst/
LOCATION:Hospitalhof\, Büchsenstraße 33\, Stuttgart\, 70174\, Deutschland
CATEGORIES:Fachtag
ORGANIZER;CN="Evang. Bildungszentrum Hospitalhof":MAILTO:info@hospitalhof.de
END:VEVENT
BEGIN:VEVENT
DTSTART;TZID=Europe/Berlin:20191118T120000
DTEND;TZID=Europe/Berlin:20191120T180000
DTSTAMP:20260422T124642
CREATED:20191017T112829Z
LAST-MODIFIED:20191017T112829Z
UID:610-1574078400-1574272800@heimat-kickers.de
SUMMARY:Verleihung Julius Hirsch Preis
DESCRIPTION:
URL:https://heimat-kickers.de/veranstaltungen/verleihung-julius-hirsch-preis/
LOCATION:Frankfurt am Main\, Frankfurt\, Deutschland
CATEGORIES:Verleihung
END:VEVENT
END:VCALENDAR